BEGIN:VCALENDAR
VERSION:2.0
PRODID:-//Musée de la Bataille du 6 août 1870 - ECPv6.15.20//NONSGML v1.0//EN
CALSCALE:GREGORIAN
METHOD:PUBLISH
X-WR-CALNAME:Musée de la Bataille du 6 août 1870
X-ORIGINAL-URL:https://musee-1870-woerth.com
X-WR-CALDESC:Évènements pour Musée de la Bataille du 6 août 1870
REFRESH-INTERVAL;VALUE=DURATION:PT1H
X-Robots-Tag:noindex
X-PUBLISHED-TTL:PT1H
BEGIN:VTIMEZONE
TZID:Europe/Paris
BEGIN:DAYLIGHT
TZOFFSETFROM:+0100
TZOFFSETTO:+0200
TZNAME:CEST
DTSTART:20250330T010000
END:DAYLIGHT
BEGIN:STANDARD
TZOFFSETFROM:+0200
TZOFFSETTO:+0100
TZNAME:CET
DTSTART:20251026T010000
END:STANDARD
BEGIN:DAYLIGHT
TZOFFSETFROM:+0100
TZOFFSETTO:+0200
TZNAME:CEST
DTSTART:20260329T010000
END:DAYLIGHT
BEGIN:STANDARD
TZOFFSETFROM:+0200
TZOFFSETTO:+0100
TZNAME:CET
DTSTART:20261025T010000
END:STANDARD
BEGIN:DAYLIGHT
TZOFFSETFROM:+0100
TZOFFSETTO:+0200
TZNAME:CEST
DTSTART:20270328T010000
END:DAYLIGHT
BEGIN:STANDARD
TZOFFSETFROM:+0200
TZOFFSETTO:+0100
TZNAME:CET
DTSTART:20271031T010000
END:STANDARD
END:VTIMEZONE
BEGIN:VEVENT
DTSTART;TZID=Europe/Paris:20260919T140000
DTEND;TZID=Europe/Paris:20260920T180000
DTSTAMP:20260420T104836
CREATED:20260127T140531Z
LAST-MODIFIED:20260312T092801Z
UID:770-1789826400-1789927200@musee-1870-woerth.com
SUMMARY:Journées européennes du patrimoine [ENTRÉE GRATUITE]
DESCRIPTION:Exposition « l’origine du rouge garance » + exposition privée des Amis du Musée. Présence de l’Atelier Couture.
URL:https://musee-1870-woerth.com/agenda/journees-europeennes-du-patrimoine-entree-gratuite/
LOCATION:Musée de la Bataille du 6 août 1870\, 2 rue du Moulin\, WOERTH\, 67360\, France
ATTACH;FMTTYPE=image/jpeg:https://musee-1870-woerth.com/wp-content/uploads/2024/03/journees-europeennes-du-patrimoine-2024.jpg
END:VEVENT
BEGIN:VEVENT
DTSTART;TZID=Europe/Paris:20260920T183000
DTEND;TZID=Europe/Paris:20260920T183000
DTSTAMP:20260420T104836
CREATED:20260312T093344Z
LAST-MODIFIED:20260312T093344Z
UID:793-1789929000-1789929000@musee-1870-woerth.com
SUMMARY:Conférence de Patrick SERRE
DESCRIPTION:Thème : « Le Maréchal de Mac Mahon\, le vaincu de Froeschwiller »
URL:https://musee-1870-woerth.com/agenda/conference-de-patrick-serre-2/
ATTACH;FMTTYPE=image/jpeg:https://musee-1870-woerth.com/wp-content/uploads/2026/03/vernet-mac-mahon.jpg
END:VEVENT
END:VCALENDAR